BEGIN:VCALENDAR
VERSION:2.0
PRODID:-//wp-events-plugin.com//6.4.6.4//EN
TZID:Europe/Zurich
X-WR-TIMEZONE:Europe/Zurich
BEGIN:VEVENT
UID:4@naturoxalis.com
DTSTART;TZID=Europe/Zurich:20240324T100000
DTEND;TZID=Europe/Zurich:20240325T170000
DTSTAMP:20240321T204701Z
URL:https://naturoxalis.com/events/atelier-de-creation-florale/
SUMMARY:Atelier de Création Florale / Complet
DESCRIPTION:Ensemble allons chercher ce que la nature nous offre en cette f
 in d'hiver. Nous exprimerons notre créativité par l'arrangement des vég
 étaux cueillis en nature avec soin et discernement. La saison du printemp
 s offre de nombreuses essences florales colorées mais des feuillages dive
 rs et des herbes à foison. Lichen et bois tombés\, galets\, brindilles e
 t branches\, mais aussi fèves et baies précoces – autant de formes et 
 de couleurs à prélever et assembler.\n\nDécouvrons diverses traditions 
 de noeuds\, découvrez les astuces d'assemblage avec les éléments de vot
 re cueillette.\n\nDonnez une forme sans matière synthétique\, sans ficel
 le\, mais par le tressage ou le croisement\, ou encore l'encastrement. Exp
 érience créative toute en fantaisie florale !\n\nDu vrai bouquet champ
 être à l'arrangement floral original et unique\, le tout possible sera l
 a dynamique de mise pour cet atelier de créativité végétale !\n\nJourn
 ée du 24.03.24 de 10h à 17h / Lieu Terra Artemisia – 01300 Belley\nJou
 rnée du 25.03.24 de 10h à 17h  /\n\n 	Groupe de 6 à 12 participants pa
 r journée d'atelier\n 	Pic-nic compris (sandwich végétarien maison)\n 	
 Se munir de chaussures de marche\, d'un couteau de poche bien affuté\, d
 ’un sécateur de jardin et d’une bouteille d’eau.\n 	Lieu Terra Arte
 misia – 01300 Belley\n 	Rdv à 9h45 dans la cour d'accueil de Terra-Arte
 misia \n 	Parking aux abords  / Hébergement possible\n\nAvec Arik Palme
 r / Artiste Plasticien Sculpteur\n
ATTACH;FMTTYPE=image/jpeg:https://naturoxalis.com/wp-content/uploads/2024/
 01/Flyer-Atelier-Floral-A-Palmer-Printaniere-24-pdf.jpg
CATEGORIES:Atelier Art
LOCATION:Terra Artemisia\, 384 Rue des Écureuils\, Belley\, 01300\, France
X-APPLE-STRUCTURED-LOCATION;VALUE=URI;X-ADDRESS=384 Rue des Écureuils\, Be
 lley\, 01300\, France;X-APPLE-RADIUS=100;X-TITLE=Terra Artemisia:geo:0,0
END:VEVENT
BEGIN:VTIMEZONE
TZID:Europe/Zurich
X-LIC-LOCATION:Europe/Zurich
BEGIN:STANDARD
DTSTART:20231029T020000
TZOFFSETFROM:+0200
TZOFFSETTO:+0100
TZNAME:CET
END:STANDARD
END:VTIMEZONE
END:VCALENDAR